BEGIN:VCALENDAR
VERSION:2.0
PRODID:-//kyohatsu//JP
CALSCALE:GREGORIAN
BEGIN:VEVENT
DTSTART;VALUE=DATE:20260515
SUMMARY:そんな部屋、あります！？　2
DESCRIPTION:秋川 滝美 講談社
UID:9784065435045@kyohatsu.lb-product.com
END:VEVENT
END:VCALENDAR
