BEGIN:VCALENDAR
VERSION:2.0
PRODID:-//kyohatsu//JP
CALSCALE:GREGORIAN
BEGIN:VEVENT
DTSTART;VALUE=DATE:20260525
SUMMARY:波紋 漢方医・有安（2）
DESCRIPTION:秋山　香乃 KADOKAWA
UID:9784041171479@kyohatsu.lb-product.com
END:VEVENT
END:VCALENDAR
