BEGIN:VCALENDAR
VERSION:2.0
PRODID:-//kyohatsu//JP
CALSCALE:GREGORIAN
BEGIN:VEVENT
DTSTART;VALUE=DATE:20260610
SUMMARY:無人島ロワイヤル
DESCRIPTION:秋吉理香子 双葉社
UID:9784575529296@kyohatsu.lb-product.com
END:VEVENT
END:VCALENDAR
