BEGIN:VCALENDAR
VERSION:2.0
PRODID:-//kyohatsu//JP
CALSCALE:GREGORIAN
BEGIN:VEVENT
DTSTART;VALUE=DATE:20260501
SUMMARY:雲の上はいつも晴れ　あの世とこの世の間にある不思議な世界
DESCRIPTION:福絵さち 扶桑社
UID:9784594102838@kyohatsu.lb-product.com
END:VEVENT
END:VCALENDAR
