BEGIN:VCALENDAR
VERSION:2.0
PRODID:-//kyohatsu//JP
CALSCALE:GREGORIAN
BEGIN:VEVENT
DTSTART;VALUE=DATE:20260520
SUMMARY:ニッポン、今こそ思い込みを捨てる時
DESCRIPTION:福田敏彦 日本橋出版
UID:9784434375682@kyohatsu.lb-product.com
END:VEVENT
END:VCALENDAR
