BEGIN:VCALENDAR
VERSION:2.0
PRODID:-//kyohatsu//JP
CALSCALE:GREGORIAN
BEGIN:VEVENT
DTSTART;VALUE=DATE:20260527
SUMMARY:angel wing (MV盤 CD＋DVD)
DESCRIPTION:福本大晴 Love Typhoon Records
UID:4948722605645@kyohatsu.lb-product.com
END:VEVENT
BEGIN:VEVENT
DTSTART;VALUE=DATE:20260527
SUMMARY:angel wing (通常盤)
DESCRIPTION:福本大晴 Love Typhoon Records
UID:4948722605669@kyohatsu.lb-product.com
END:VEVENT
BEGIN:VEVENT
DTSTART;VALUE=DATE:20260527
SUMMARY:angel wing (MV盤 CD＋Blu-ray)
DESCRIPTION:福本大晴 Love Typhoon Records
UID:4948722605652@kyohatsu.lb-product.com
END:VEVENT
END:VCALENDAR
