BEGIN:VCALENDAR
VERSION:2.0
PRODID:-//kyohatsu//JP
CALSCALE:GREGORIAN
BEGIN:VEVENT
DTSTART;VALUE=DATE:20260623
SUMMARY:二階堂地獄ゴルフ（13）
DESCRIPTION:福本 伸行 講談社
UID:9784065439432@kyohatsu.lb-product.com
END:VEVENT
END:VCALENDAR
