BEGIN:VCALENDAR
VERSION:2.0
PRODID:-//kyohatsu//JP
CALSCALE:GREGORIAN
BEGIN:VEVENT
DTSTART;VALUE=DATE:20260909
SUMMARY:【楽天ブックス限定先着特典】タイトル未定 (初回限定音源盤[New-Recording Best Album 2000-2020] 2CD＋DVD)(品目未定)
DESCRIPTION:福山雅治 
UID:2100014957883@kyohatsu.lb-product.com
END:VEVENT
BEGIN:VEVENT
DTSTART;VALUE=DATE:20260909
SUMMARY:【楽天ブックス限定先着特典+早期予約特典】【クレジットカード決済限定】【シリアル対象】タイトル未定 (初回限定音源盤[New-Recording Best Album 1990-1999] 2CD＋DVD)(品目未定+ドーム公演チケット先行受付抽選シリアル)
DESCRIPTION:福山雅治 
UID:2100014954295@kyohatsu.lb-product.com
END:VEVENT
BEGIN:VEVENT
DTSTART;VALUE=DATE:20260909
SUMMARY:【楽天ブックス限定先着特典+早期予約特典】【クレジットカード決済限定】【シリアル対象】タイトル未定 (初回限定LIVE映像盤[DVD] CD＋3DVD＋ピック2種)(品目未定+ドーム公演チケット先行受付抽選シリアル)
DESCRIPTION:福山雅治 
UID:2100014954288@kyohatsu.lb-product.com
END:VEVENT
BEGIN:VEVENT
DTSTART;VALUE=DATE:20260909
SUMMARY:【楽天ブックス限定先着特典】タイトル未定 (初回限定音源盤[New-Recording Best Album 1990-1999] 2CD＋DVD)(品目未定)
DESCRIPTION:福山雅治 
UID:2100014954349@kyohatsu.lb-product.com
END:VEVENT
BEGIN:VEVENT
DTSTART;VALUE=DATE:20260909
SUMMARY:タイトル未定 (初回限定LIVE映像盤[Blu-ray] CD＋2Blu-ray＋ピック2種)
DESCRIPTION:福山雅治 ユニバーサルミュージック
UID:4988031880845@kyohatsu.lb-product.com
END:VEVENT
BEGIN:VEVENT
DTSTART;VALUE=DATE:20260909
SUMMARY:【楽天ブックス限定先着特典+早期予約特典】【クレジットカード決済限定】【シリアル対象】タイトル未定 (通常盤)(品目未定+ドーム公演チケット先行受付抽選シリアル)
DESCRIPTION:福山雅治 
UID:2100014954318@kyohatsu.lb-product.com
END:VEVENT
BEGIN:VEVENT
DTSTART;VALUE=DATE:20260909
SUMMARY:【楽天ブックス限定先着特典】タイトル未定 (初回限定LIVE映像盤[DVD] CD＋3DVD＋ピック2種)(品目未定)
DESCRIPTION:福山雅治 
UID:2100014954332@kyohatsu.lb-product.com
END:VEVENT
BEGIN:VEVENT
DTSTART;VALUE=DATE:20260909
SUMMARY:【楽天ブックス限定先着特典+早期予約特典】【クレジットカード決済限定】【シリアル対象】タイトル未定 (初回限定LIVE映像盤[Blu-ray] CD＋2Blu-ray＋ピック2種)(品目未定+ドーム公演チケット先行受付抽選シリアル)
DESCRIPTION:福山雅治 
UID:2100014954271@kyohatsu.lb-product.com
END:VEVENT
BEGIN:VEVENT
DTSTART;VALUE=DATE:20260909
SUMMARY:【楽天ブックス限定先着特典】タイトル未定 (通常盤)(品目未定)
DESCRIPTION:福山雅治 ユニバーサルミュージック
UID:4988031880906@kyohatsu.lb-product.com
END:VEVENT
BEGIN:VEVENT
DTSTART;VALUE=DATE:20260909
SUMMARY:タイトル未定 (初回限定音源盤[New-Recording Best Album 1990-1999] 2CD＋DVD)
DESCRIPTION:福山雅治 ユニバーサルミュージック
UID:4988031880883@kyohatsu.lb-product.com
END:VEVENT
BEGIN:VEVENT
DTSTART;VALUE=DATE:20260909
SUMMARY:【楽天ブックス限定先着特典+早期予約特典】【クレジットカード決済限定】【シリアル対象】タイトル未定 (初回限定音源盤[New-Recording Best Album 2000-2020] 2CD＋DVD)(品目未定+ドーム公演チケット先行受付抽選シリアル)
DESCRIPTION:福山雅治 
UID:2100014954301@kyohatsu.lb-product.com
END:VEVENT
BEGIN:VEVENT
DTSTART;VALUE=DATE:20260909
SUMMARY:【楽天ブックス限定先着特典】タイトル未定 (初回限定LIVE映像盤[Blu-ray] CD＋2Blu-ray＋ピック2種)(品目未定)
DESCRIPTION:福山雅治 
UID:2100014954325@kyohatsu.lb-product.com
END:VEVENT
BEGIN:VEVENT
DTSTART;VALUE=DATE:20260909
SUMMARY:タイトル未定 (初回限定音源盤[New-Recording Best Album 2000-2020] 2CD＋DVD)
DESCRIPTION:福山雅治 ユニバーサルミュージック
UID:4988031880890@kyohatsu.lb-product.com
END:VEVENT
BEGIN:VEVENT
DTSTART;VALUE=DATE:20260909
SUMMARY:タイトル未定 (初回限定LIVE映像盤[DVD] CD＋3DVD＋ピック2種)
DESCRIPTION:福山雅治 ユニバーサルミュージック
UID:4988031880852@kyohatsu.lb-product.com
END:VEVENT
END:VCALENDAR
