BEGIN:VCALENDAR
VERSION:2.0
PRODID:-//kyohatsu//JP
CALSCALE:GREGORIAN
BEGIN:VEVENT
DTSTART;VALUE=DATE:20260617
SUMMARY:よわよわ先生（18）
DESCRIPTION:福地 カミオ 講談社
UID:9784065439067@kyohatsu.lb-product.com
END:VEVENT
END:VCALENDAR
