BEGIN:VCALENDAR
VERSION:2.0
PRODID:-//kyohatsu//JP
CALSCALE:GREGORIAN
BEGIN:VEVENT
DTSTART;VALUE=DATE:20260501
SUMMARY:翠玉の人〜渡辺崋山伝〜
DESCRIPTION:神部眞理子 文芸社
UID:9784286276892@kyohatsu.lb-product.com
END:VEVENT
END:VCALENDAR
