BEGIN:VCALENDAR
VERSION:2.0
PRODID:-//kyohatsu//JP
CALSCALE:GREGORIAN
BEGIN:VEVENT
DTSTART;VALUE=DATE:20260529
SUMMARY:おともだち〜11人め〜
DESCRIPTION:神坂茉莉花 (株)エスデジタル
UID:4571346009874@kyohatsu.lb-product.com
END:VEVENT
END:VCALENDAR
