BEGIN:VCALENDAR
VERSION:2.0
PRODID:-//kyohatsu//JP
CALSCALE:GREGORIAN
BEGIN:VEVENT
DTSTART;VALUE=DATE:20260715
SUMMARY:THE PRIMALS/THE PRIMALS - Back in the Ring
DESCRIPTION:祖堅正慶\\,THE PRIMALS (株)スクウェア・エニックス
UID:4988601472784@kyohatsu.lb-product.com
END:VEVENT
END:VCALENDAR
