BEGIN:VCALENDAR
VERSION:2.0
PRODID:-//kyohatsu//JP
CALSCALE:GREGORIAN
BEGIN:VEVENT
DTSTART;VALUE=DATE:20260608
SUMMARY:エルフとバイクと帝国地理調査員と　5巻
DESCRIPTION:磯本 つよし 少年画報社
UID:9784785982126@kyohatsu.lb-product.com
END:VEVENT
END:VCALENDAR
