BEGIN:VCALENDAR
VERSION:2.0
PRODID:-//kyohatsu//JP
CALSCALE:GREGORIAN
BEGIN:VEVENT
DTSTART;VALUE=DATE:20260623
SUMMARY:新刊100億冊ください（3）
DESCRIPTION:破賀 ミチル 講談社
UID:9784065437018@kyohatsu.lb-product.com
END:VEVENT
END:VCALENDAR
