BEGIN:VCALENDAR
VERSION:2.0
PRODID:-//kyohatsu//JP
CALSCALE:GREGORIAN
BEGIN:VEVENT
DTSTART;VALUE=DATE:20260605
SUMMARY:わたしを庇わないで
DESCRIPTION:石田 夏穂 集英社
UID:9784087700572@kyohatsu.lb-product.com
END:VEVENT
END:VCALENDAR
