BEGIN:VCALENDAR
VERSION:2.0
PRODID:-//kyohatsu//JP
CALSCALE:GREGORIAN
BEGIN:VEVENT
DTSTART;VALUE=DATE:20260618
SUMMARY:超人X 16
DESCRIPTION:石田 スイ 集英社
UID:9784088942278@kyohatsu.lb-product.com
END:VEVENT
END:VCALENDAR
