BEGIN:VCALENDAR
VERSION:2.0
PRODID:-//kyohatsu//JP
CALSCALE:GREGORIAN
BEGIN:VEVENT
DTSTART;VALUE=DATE:20260508
SUMMARY:花嫁と殺し屋
DESCRIPTION:石持 浅海 文藝春秋
UID:9784167925093@kyohatsu.lb-product.com
END:VEVENT
END:VCALENDAR
