BEGIN:VCALENDAR
VERSION:2.0
PRODID:-//kyohatsu//JP
CALSCALE:GREGORIAN
BEGIN:VEVENT
DTSTART;VALUE=DATE:20260520
SUMMARY:見て楽しむ奈良絵本・絵巻　描かれた昔話と物語
DESCRIPTION:石川透 八木書店
UID:9784840697750@kyohatsu.lb-product.com
END:VEVENT
END:VCALENDAR
