BEGIN:VCALENDAR
VERSION:2.0
PRODID:-//kyohatsu//JP
CALSCALE:GREGORIAN
BEGIN:VEVENT
DTSTART;VALUE=DATE:20260511
SUMMARY:自分らしく老いる覚悟
DESCRIPTION:石川牧子 青娥書房
UID:9784790604112@kyohatsu.lb-product.com
END:VEVENT
END:VCALENDAR
