BEGIN:VCALENDAR
VERSION:2.0
PRODID:-//kyohatsu//JP
CALSCALE:GREGORIAN
BEGIN:VEVENT
DTSTART;VALUE=DATE:20260624
SUMMARY:愛せないなら
DESCRIPTION:石川まどか (株)ホリデージャパン
UID:4549767201887@kyohatsu.lb-product.com
END:VEVENT
END:VCALENDAR
