BEGIN:VCALENDAR
VERSION:2.0
PRODID:-//kyohatsu//JP
CALSCALE:GREGORIAN
BEGIN:VEVENT
DTSTART;VALUE=DATE:20260519
SUMMARY:ベッシーちゃん
DESCRIPTION:石川えりこ アリス館
UID:9784752011699@kyohatsu.lb-product.com
END:VEVENT
END:VCALENDAR
