BEGIN:VCALENDAR
VERSION:2.0
PRODID:-//kyohatsu//JP
CALSCALE:GREGORIAN
BEGIN:VEVENT
DTSTART;VALUE=DATE:20260529
SUMMARY:ヴィンテージ・トーキョー（3）
DESCRIPTION:石川 優吾 小学館
UID:9784098640188@kyohatsu.lb-product.com
END:VEVENT
END:VCALENDAR
