BEGIN:VCALENDAR
VERSION:2.0
PRODID:-//kyohatsu//JP
CALSCALE:GREGORIAN
BEGIN:VEVENT
DTSTART;VALUE=DATE:20260526
SUMMARY:陰謀と犯罪のシェイクスピア
DESCRIPTION:石井 美樹子 河出書房新社
UID:9784309209470@kyohatsu.lb-product.com
END:VEVENT
END:VCALENDAR
