BEGIN:VCALENDAR
VERSION:2.0
PRODID:-//kyohatsu//JP
CALSCALE:GREGORIAN
BEGIN:VEVENT
DTSTART;VALUE=DATE:20260722
SUMMARY:【先着特典】生きものたちへ (完全生産限定盤 CD＋Blu-ray)(オリジナルステッカー)
DESCRIPTION:矢野顕子 
UID:2100014961927@kyohatsu.lb-product.com
END:VEVENT
BEGIN:VEVENT
DTSTART;VALUE=DATE:20260722
SUMMARY:生きものたちへ (完全生産限定盤 CD＋Blu-ray)
DESCRIPTION:矢野顕子 
UID:4988002952939@kyohatsu.lb-product.com
END:VEVENT
BEGIN:VEVENT
DTSTART;VALUE=DATE:20260722
SUMMARY:【先着特典】生きものたちへ【生産限定アナログ盤】(オリジナルステッカー)
DESCRIPTION:矢野顕子 
UID:4988002952953@kyohatsu.lb-product.com
END:VEVENT
BEGIN:VEVENT
DTSTART;VALUE=DATE:20260722
SUMMARY:【先着特典】生きものたちへ (通常盤)(オリジナルステッカー)
DESCRIPTION:矢野顕子 
UID:4988002952946@kyohatsu.lb-product.com
END:VEVENT
END:VCALENDAR
