BEGIN:VCALENDAR
VERSION:2.0
PRODID:-//kyohatsu//JP
CALSCALE:GREGORIAN
BEGIN:VEVENT
DTSTART;VALUE=DATE:20260608
SUMMARY:ようこそ！うららか食堂へ　5
DESCRIPTION:矢直 ちなみ 少年画報社
UID:9784785982140@kyohatsu.lb-product.com
END:VEVENT
END:VCALENDAR
