BEGIN:VCALENDAR
VERSION:2.0
PRODID:-//kyohatsu//JP
CALSCALE:GREGORIAN
BEGIN:VEVENT
DTSTART;VALUE=DATE:20260505
SUMMARY:あなたの時間
DESCRIPTION:矢樹 育子 鳥影社
UID:9784867822098@kyohatsu.lb-product.com
END:VEVENT
END:VCALENDAR
