BEGIN:VCALENDAR
VERSION:2.0
PRODID:-//kyohatsu//JP
CALSCALE:GREGORIAN
BEGIN:VEVENT
DTSTART;VALUE=DATE:20260509
SUMMARY:虚構街区　D1警視庁暗殺部
DESCRIPTION:矢月秀作 祥伝社
UID:9784396351854@kyohatsu.lb-product.com
END:VEVENT
END:VCALENDAR
