BEGIN:VCALENDAR
VERSION:2.0
PRODID:-//kyohatsu//JP
CALSCALE:GREGORIAN
BEGIN:VEVENT
DTSTART;VALUE=DATE:20260430
SUMMARY:童謡詩人　金子みすゞの生涯
DESCRIPTION:矢崎節夫 JULA出版局
UID:9784577054734@kyohatsu.lb-product.com
END:VEVENT
END:VCALENDAR
