BEGIN:VCALENDAR
VERSION:2.0
PRODID:-//kyohatsu//JP
CALSCALE:GREGORIAN
BEGIN:VEVENT
DTSTART;VALUE=DATE:20260513
SUMMARY:蜜謀 かがり淫法帖（第2巻）
DESCRIPTION:睦月 影郎 コスミック出版
UID:9784774767284@kyohatsu.lb-product.com
END:VEVENT
END:VCALENDAR
