BEGIN:VCALENDAR
VERSION:2.0
PRODID:-//kyohatsu//JP
CALSCALE:GREGORIAN
BEGIN:VEVENT
DTSTART;VALUE=DATE:20260601
SUMMARY:ミズダコちゃんからは逃げられない！　5
DESCRIPTION:眼亀 芳文社
UID:9784832206236@kyohatsu.lb-product.com
END:VEVENT
END:VCALENDAR
