BEGIN:VCALENDAR
VERSION:2.0
PRODID:-//kyohatsu//JP
CALSCALE:GREGORIAN
BEGIN:VEVENT
DTSTART;VALUE=DATE:20260528
SUMMARY:ぼくらは回収しない
DESCRIPTION:真門浩平 東京創元社
UID:9784488407315@kyohatsu.lb-product.com
END:VEVENT
END:VCALENDAR
