BEGIN:VCALENDAR
VERSION:2.0
PRODID:-//kyohatsu//JP
CALSCALE:GREGORIAN
BEGIN:VEVENT
DTSTART;VALUE=DATE:20260528
SUMMARY:半永久の花束
DESCRIPTION:真紀涼介 東京創元社
UID:9784488029470@kyohatsu.lb-product.com
END:VEVENT
END:VCALENDAR
