BEGIN:VCALENDAR
VERSION:2.0
PRODID:-//kyohatsu//JP
CALSCALE:GREGORIAN
BEGIN:VEVENT
DTSTART;VALUE=DATE:20260513
SUMMARY:縁の使者の獣医さん
DESCRIPTION:真秀場 弥生 ブイツーソリューション
UID:9784434378577@kyohatsu.lb-product.com
END:VEVENT
END:VCALENDAR
