BEGIN:VCALENDAR
VERSION:2.0
PRODID:-//kyohatsu//JP
CALSCALE:GREGORIAN
BEGIN:VEVENT
DTSTART;VALUE=DATE:20260603
SUMMARY:おべんとうバスのころころりん
DESCRIPTION:真珠 まりこ ひさかたチャイルド
UID:9784865493771@kyohatsu.lb-product.com
END:VEVENT
END:VCALENDAR
