BEGIN:VCALENDAR
VERSION:2.0
PRODID:-//kyohatsu//JP
CALSCALE:GREGORIAN
BEGIN:VEVENT
DTSTART;VALUE=DATE:20260612
SUMMARY:あしたの私のつくり方
DESCRIPTION:真戸 香 講談社
UID:9784065439012@kyohatsu.lb-product.com
END:VEVENT
END:VCALENDAR
