BEGIN:VCALENDAR
VERSION:2.0
PRODID:-//kyohatsu//JP
CALSCALE:GREGORIAN
BEGIN:VEVENT
DTSTART;VALUE=DATE:20260520
SUMMARY:大失敗にも大不況にも負けなかった社長たちの物語
DESCRIPTION:真山 知幸 彩図社
UID:9784801308268@kyohatsu.lb-product.com
END:VEVENT
END:VCALENDAR
