BEGIN:VCALENDAR
VERSION:2.0
PRODID:-//kyohatsu//JP
CALSCALE:GREGORIAN
BEGIN:VEVENT
DTSTART;VALUE=DATE:20260601
SUMMARY:薬の魔物の解雇理由＠COMIC 第4巻
DESCRIPTION:真丸イノ TOブックス
UID:9784868540076@kyohatsu.lb-product.com
END:VEVENT
END:VCALENDAR
