BEGIN:VCALENDAR
VERSION:2.0
PRODID:-//kyohatsu//JP
CALSCALE:GREGORIAN
BEGIN:VEVENT
DTSTART;VALUE=DATE:20260603
SUMMARY:フジテレビ系ドラマ サバ缶、宇宙へ行く オリジナルサウンドトラック
DESCRIPTION:眞鍋昭大 (株)ポニーキャニオン
UID:4524135308184@kyohatsu.lb-product.com
END:VEVENT
END:VCALENDAR
