BEGIN:VCALENDAR
VERSION:2.0
PRODID:-//kyohatsu//JP
CALSCALE:GREGORIAN
BEGIN:VEVENT
DTSTART;VALUE=DATE:20260514
SUMMARY:YOYOKA
DESCRIPTION:相馬世世歌 実業之日本社
UID:9784408652078@kyohatsu.lb-product.com
END:VEVENT
END:VCALENDAR
