BEGIN:VCALENDAR
VERSION:2.0
PRODID:-//kyohatsu//JP
CALSCALE:GREGORIAN
BEGIN:VEVENT
DTSTART;VALUE=DATE:20260605
SUMMARY:心眼
DESCRIPTION:相場　英雄 実業之日本社
UID:9784408560113@kyohatsu.lb-product.com
END:VEVENT
BEGIN:VEVENT
DTSTART;VALUE=DATE:20260605
SUMMARY:一滴の沈黙
DESCRIPTION:相場 英雄 文藝春秋
UID:9784163921112@kyohatsu.lb-product.com
END:VEVENT
END:VCALENDAR
