BEGIN:VCALENDAR
VERSION:2.0
PRODID:-//kyohatsu//JP
CALSCALE:GREGORIAN
BEGIN:VEVENT
DTSTART;VALUE=DATE:20260603
SUMMARY:恋しない君と恋がしたい
DESCRIPTION:盛田のどか コアマガジン
UID:9784866539782@kyohatsu.lb-product.com
END:VEVENT
END:VCALENDAR
