BEGIN:VCALENDAR
VERSION:2.0
PRODID:-//kyohatsu//JP
CALSCALE:GREGORIAN
BEGIN:VEVENT
DTSTART;VALUE=DATE:20260520
SUMMARY:新装版　そう書いてあった
DESCRIPTION:益田 ミリ ミシマ社
UID:9784911226339@kyohatsu.lb-product.com
END:VEVENT
END:VCALENDAR
