BEGIN:VCALENDAR
VERSION:2.0
PRODID:-//kyohatsu//JP
CALSCALE:GREGORIAN
BEGIN:VEVENT
DTSTART;VALUE=DATE:20260527
SUMMARY:ジンタルス　RED　AMBER
DESCRIPTION:皆川 博子 河出書房新社
UID:9784309032672@kyohatsu.lb-product.com
END:VEVENT
END:VCALENDAR
