BEGIN:VCALENDAR
VERSION:2.0
PRODID:-//kyohatsu//JP
CALSCALE:GREGORIAN
BEGIN:VEVENT
DTSTART;VALUE=DATE:20260430
SUMMARY:イザベラ・バード、日出ずる国で妖怪に出会う
DESCRIPTION:白鷺 あおい 東京創元社
UID:9784488588090@kyohatsu.lb-product.com
END:VEVENT
END:VCALENDAR
