BEGIN:VCALENDAR
VERSION:2.0
PRODID:-//kyohatsu//JP
CALSCALE:GREGORIAN
BEGIN:VEVENT
DTSTART;VALUE=DATE:20260525
SUMMARY:VAMPXIA（3）(完)
DESCRIPTION:白縫餡 スクウェア・エニックス
UID:9784301005377@kyohatsu.lb-product.com
END:VEVENT
END:VCALENDAR
