BEGIN:VCALENDAR
VERSION:2.0
PRODID:-//kyohatsu//JP
CALSCALE:GREGORIAN
BEGIN:VEVENT
DTSTART;VALUE=DATE:20260526
SUMMARY:99％サキュバスちゃん（6）
DESCRIPTION:白石 ユキ 小学館
UID:9784098733170@kyohatsu.lb-product.com
END:VEVENT
END:VCALENDAR
