BEGIN:VCALENDAR
VERSION:2.0
PRODID:-//kyohatsu//JP
CALSCALE:GREGORIAN
BEGIN:VEVENT
DTSTART;VALUE=DATE:20260508
SUMMARY:首ざむらい 江戸妖かし綺譚
DESCRIPTION:由原 かのん 文藝春秋
UID:9784167925123@kyohatsu.lb-product.com
END:VEVENT
BEGIN:VEVENT
DTSTART;VALUE=DATE:20260513
SUMMARY:おりせ人形帖
DESCRIPTION:由原 かのん 文藝春秋
UID:9784163921006@kyohatsu.lb-product.com
END:VEVENT
END:VCALENDAR
