BEGIN:VCALENDAR
VERSION:2.0
PRODID:-//kyohatsu//JP
CALSCALE:GREGORIAN
BEGIN:VEVENT
DTSTART;VALUE=DATE:20260806
SUMMARY:かっぱ先生　約束遥か
DESCRIPTION:田牧　大和 実業之日本社
UID:9784408558530@kyohatsu.lb-product.com
END:VEVENT
END:VCALENDAR
