BEGIN:VCALENDAR
VERSION:2.0
PRODID:-//kyohatsu//JP
CALSCALE:GREGORIAN
BEGIN:VEVENT
DTSTART;VALUE=DATE:20260528
SUMMARY:思考のストレッチ
DESCRIPTION:田村 正資 講談社
UID:9784065435151@kyohatsu.lb-product.com
END:VEVENT
END:VCALENDAR
