BEGIN:VCALENDAR
VERSION:2.0
PRODID:-//kyohatsu//JP
CALSCALE:GREGORIAN
BEGIN:VEVENT
DTSTART;VALUE=DATE:20260522
SUMMARY:みちかとまり（4）
DESCRIPTION:田島 列島 講談社
UID:9784065435861@kyohatsu.lb-product.com
END:VEVENT
END:VCALENDAR
